BEGIN:VCALENDAR
VERSION:2.0
PRODID:-//Western Knights Soccer Club - ECPv4.6.10.1//NONSGML v1.0//EN
CALSCALE:GREGORIAN
METHOD:PUBLISH
X-WR-CALNAME:Western Knights Soccer Club
X-ORIGINAL-URL:http://westernknights.com.au
X-WR-CALDESC:Events for Western Knights Soccer Club
BEGIN:VEVENT
DTSTART;TZID=Australia/Perth:20180210T183000
DTEND;TZID=Australia/Perth:20180210T183000
DTSTAMP:20180225T084247
CREATED:20180116T083419Z
LAST-MODIFIED:20180116T083444Z
UID:3032-1518287400-1518287400@westernknights.com.au
SUMMARY:Bila Noc
DESCRIPTION:Come and celebrate Bila Noc (White Night) \nWear white – Major Minor from Melbourne will be playing and singing the Hajduk songs. \nDelicious food and a fun night to be part of. \nSaturday 10th February\, Croatian Community Centre\, Nth Fremantle. \nAdults – $70\nKids (12-16) – $30\nKids (U12) – free \n
URL:http://westernknights.com.au/event/bila-noc/
LOCATION:Alfred Road\, North Fremantle\, WA\, 6159\, Australia
END:VEVENT
BEGIN:VEVENT
DTSTART;TZID=Australia/Perth:20180218T150000
DTEND;TZID=Australia/Perth:20180218T170000
DTSTAMP:20180225T084247
CREATED:20180116T083026Z
LAST-MODIFIED:20180116T083026Z
UID:3029-1518966000-1518973200@westernknights.com.au
SUMMARY:Open Day - Juniors - 2018
DESCRIPTION:Meet the Technical Director for Juniors\, committee\, team managers & Register your interest for 2018 \nHave fun on the inflatable pitch; enjoy the BBQ & bar facilities. \n
URL:http://westernknights.com.au/event/open-day-juniors-2018/
LOCATION:WA
ATTACH;FMTTYPE=image/jpeg:http://westernknights.com.au/wp-content/uploads/2018/01/Open-Day-2018.jpg
END:VEVENT
END:VCALENDAR